BEGIN:VCALENDAR
VERSION:2.0
PRODID:-//wp-events-plugin.com//6.6.3//EN
TZID:Europe/Berlin
X-WR-TIMEZONE:Europe/Berlin
BEGIN:VEVENT
UID:29@freedominchrist.eu
DTSTART;TZID=Europe/Berlin:20261016T170000
DTEND;TZID=Europe/Berlin:20261018T163000
DTSTAMP:20260323T114053Z
URL:https://freedominchrist.eu/events/von-angst-zu-mut-vertrauen-wochenend
 e-im-schwarzwald/
SUMMARY:Von Angst zu MUT & VERTRAUEN - Wochenende im Schwarzwald
DESCRIPTION:\nWochenend-Seminar im Haus Felsengrund\, Bad Teinach - Zavelst
 ein (Nordschwarzwald) vom 16.-18. Oktober 2026\n\n\n\n \n\nWenn die Angst
  das Leben dominiert\, beeinträchtigt sie den Alltag nachhaltig. Sie zers
 tört Beziehungen\, raubt die seelischen und geistigen Kräfte. Angst kann
  den Menschen körperlich krank machen. Auf jeden Fall aber raubt sie uns 
 den Mut und lässt uns hoffnungslos zurück.\n\nAber:\n\n 	Du kannst deine
  Angstursachen entdecken und deine Angstlügen entlarven.\n 	Du kannst dei
 n Gottvertrauen stärken.\n 	Du kannst in deiner Identität in Christus le
 ben lernen.\n 	Du kannst deine Angstfestung(en) erkennen und überwinden.\
 n 	Du kannst mit Hoffnung und Mut weitergehen!\n\n \n\nReferent: Günther
  Schulz\, Pastor i.R.\, MA bei Freiheit in Christus &amp\; Team\n\nSeminar
 gebühren: 80 Euro (inkl. Material)\n\nZimmerbuchung direkt bei Haus Felse
 ngrund!\nWeltenschwanner Straße 25 | 75385 Bad Teinach-Zavelstein\n\nTele
 fon: 07053 / 9266-0  info@haus-felsen-grund.de\n\nwww.haus-felsen-grund.d
 e\n\n \n\nWeitere Infos: info@freedominchrist.de\n\n\n\n\n\n&nbsp\;\n\n
ATTACH;FMTTYPE=image/jpeg:https://freedominchrist.eu/wp-content/uploads/20
 26/03/lightstock_333655_Angst-zu-Mut-Seminar2026.jpeg.png
CATEGORIES:Seminar vor Ort
END:VEVENT
BEGIN:VTIMEZONE
TZID:Europe/Berlin
X-LIC-LOCATION:Europe/Berlin
BEGIN:DAYLIGHT
DTSTART:20260329T030000
TZOFFSETFROM:+0100
TZOFFSETTO:+0200
TZNAME:CEST
END:DAYLIGHT
END:VTIMEZONE
END:VCALENDAR