BEGIN:VCALENDAR
VERSION:2.0
PRODID:-//wp-events-plugin.com//6.6.3//EN
TZID:Europe/Berlin
X-WR-TIMEZONE:Europe/Berlin
BEGIN:VEVENT
UID:25@freedominchrist.eu
DTSTART;TZID=Europe/Berlin:20260703T170000
DTEND;TZID=Europe/Berlin:20260704T163000
DTSTAMP:20260313T095410Z
URL:https://freedominchrist.eu/events/fic-konferenz-2026/
SUMMARY:FREEDOM IN CHRIST Konferenz 2026
DESCRIPTION:\n\nmit Steve Goss (Int. Leiter von FREEDOM IN CHRIST)\nFruchtb
 are Jünger – gesunde Gemeinde\n\nhttps://vimeo.com/1173227525?share=cop
 y&fl=sv&fe=ci\n\nEvangelium bedeutet „Gute Nachricht“ – es ist die f
 rohe Botschaft\, dass Jesus Christus gekommen ist\, „Gefangenen Freihei
 t auszurufen und Blinden\, dass sie wieder sehen\, Zerschlagene in Freihe
 it hinzusenden“. (Lk 4\,18).\nDiese Botschaft schenkt neues Leben\, echt
 e Freiheit und führt zu beständiger Veränderung. Jesus hat seine Jünge
 r berufen\, einander zu helfen\, eine gesunde Nachfolge zu leben.\nSteve G
 oss (UK)\, der internationale Leiter von Freedom in Christ Ministries\, wi
 rd uns zeigen\, wie wir dem Auftrag\, fruchtbare Jünger zu machen\, nachk
 ommen können. Im Mittelpunkt steht dabei\, wie die Freiheit der Identitä
 t in Christus und die Kraft des neuen Lebens uns von innen heraus verände
 rn. Steve wird praktische Werkzeuge vorstellen\, die in Gemeinden angewend
 et werden können.\n\nDas erwartet dich\n• Vorträge von Steve Goss\n•
  Zeit für Gespräche und Begegnung\n• Einblicke in die nationale\, euro
 paweite und internationale Arbeit von FREEDOM IN CHRIST\n• Berichte und
  Zeugnisse aus unserer Arbeit\n• Vorstellung neuer Materialien\n• Aust
 ausch und Ermutigung für deine Gemeindearbeit\n\n\n&nbsp\;\n\nLade dir hi
 er den Flyer als PDF herunter:\n\n[download id="10752"]\n\nKosten\nKonfere
 nz ohne Übernachtung: 100\,-€ (inkl. FR Abendessen\, SA Mittagessen)\nK
 onferenz mit Übernachtung:\nDoppel-/Mehrbettzimmer 1 Nacht: 140\,-€ (in
 kl. Vollpension)\nDoppel-/Mehrbettzimmer 2 Nächte: 165\,-€ (inkl. Vollp
 ension)\n\nEinzelzimmer: 1 Nacht: 170\,-€ (inkl. Vollpension)\nEinzelzim
 mer: 2 Nächte: 205\,-€ (inkl. Vollpension)\n\n\n\nAnmeldung und Infos\n
 Termin: Freitag 03.07.2026 ab 17:00h (Abendessen 18:00h) - Samstag 04.07.2
 026 16:30h\nOrt: Christliches Bildungszentrum Erzgebirge\, Hartensteiner S
 tr. 61\, 09376 Oelsnitz/Erzg.\n&nbsp\;\n\n\n[ninja_form id=14]\n\n
ATTACH;FMTTYPE=image/jpeg:https://freedominchrist.eu/wp-content/uploads/20
 25/11/Kon26-pdf.jpg
CATEGORIES:Seminar vor Ort
END:VEVENT
BEGIN:VTIMEZONE
TZID:Europe/Berlin
X-LIC-LOCATION:Europe/Berlin
BEGIN:DAYLIGHT
DTSTART:20260329T030000
TZOFFSETFROM:+0100
TZOFFSETTO:+0200
TZNAME:CEST
END:DAYLIGHT
END:VTIMEZONE
END:VCALENDAR